BEGIN:VCALENDAR
PRODID:-//eluceo/ical//2.0/EN
VERSION:2.0
CALSCALE:GREGORIAN
BEGIN:VEVENT
UID:f72af8a5-c553-4209-a167-5abf0019bc57
DTSTAMP:20251118T094644Z
SUMMARY:Weinkneipe
DESCRIPTION:
DTSTART:20251122T200000
DTEND:20251122T230000
LOCATION:Reno-Guestfalen-Haus
END:VEVENT
BEGIN:VEVENT
UID:cc5713bb-a92f-4fca-8adb-339838cfc3de
DTSTAMP:20251118T094753Z
SUMMARY:3. AC / BC
DESCRIPTION:
DTSTART:20251126T190000
DTEND:20251126T220000
LOCATION:Reno-Guestfalen-Haus
END:VEVENT
BEGIN:VEVENT
UID:8b3adf59-0efe-4849-b652-4b0f3aff4b5e
DTSTAMP:20251118T094913Z
SUMMARY:Zigarren-/Rumseminar
DESCRIPTION:
DTSTART:20251127T180000
DTEND:20251127T220000
LOCATION:Reno-Guestfalen-Haus
END:VEVENT
BEGIN:VEVENT
UID:3db6b162-bded-45c0-a189-43b1f92c3762
DTSTAMP:20251118T095040Z
SUMMARY:Kirchgang der Aktivitas zum 1. Advent
DESCRIPTION:
DTSTART:20251130T110000
DTEND:20251130T130000
LOCATION:St. Nikolaus\, Rathausstraße 5\, 24103 Kiel
END:VEVENT
BEGIN:VEVENT
UID:47d74770-4aa9-498e-87cd-72d61d74c087
DTSTAMP:20251118T095141Z
SUMMARY:Theologische Diskussion
DESCRIPTION:
DTSTART:20251210T180000
DTEND:20251210T210000
LOCATION:Reno-Guestfalen-Haus
END:VEVENT
BEGIN:VEVENT
UID:28adcee4-337e-431c-855c-8e7e827c9296
DTSTAMP:20251118T095252Z
SUMMARY:Besuch Kieler Weihnachtsmarktes
DESCRIPTION:
DTSTART:20251211T170000
DTEND:20251211T210000
LOCATION:Weihnachtsmarkt am Rathaus
END:VEVENT
BEGIN:VEVENT
UID:ac207ac9-3e3d-4eb9-a871-64ce4d314053
DTSTAMP:20251217T124305Z
SUMMARY:4. AC / BC
DESCRIPTION:
DTSTART:20251217T190000
DTEND:20251217T220000
LOCATION:Rheno-Guestfalen-Haus
END:VEVENT
BEGIN:VEVENT
UID:e2c0642d-4a47-4aa0-9be0-52cfd6b67250
DTSTAMP:20251217T124314Z
SUMMARY:Feuerzangenbowle
DESCRIPTION:
DTSTART:20251218T190000
DTEND:20251218T210000
LOCATION:Rheno-Guestfalen-Haus
END:VEVENT
BEGIN:VEVENT
UID:6a9f6c5f-75a8-43a4-a46e-6892b8fdbc0e
DTSTAMP:20251217T124329Z
SUMMARY:5. AC / BC
DESCRIPTION:
DTSTART:20260114T190000
DTEND:20260114T220000
LOCATION:Rheno-Guestfalen-Haus
END:VEVENT
BEGIN:VEVENT
UID:a5c258e6-0c07-4001-82bc-9d7a1928ea83
DTSTAMP:20251118T095727Z
SUMMARY:Aktivenjagd Rot- und Schwarzwild
DESCRIPTION:
DTSTART:20260115T000000
DTEND:20260115T235959
LOCATION:an der Müritz
END:VEVENT
BEGIN:VEVENT
UID:dd8c79c7-a24d-4cbd-87bb-556a91e6859d
DTSTAMP:20251118T095838Z
SUMMARY:Hl. Messe zum Semesterende
DESCRIPTION:
DTSTART:20260131T180000
DTEND:20260131T210000
LOCATION:St. Nikolaus\, Rathausstraße 5\, 24103 Kiel
END:VEVENT
BEGIN:VEVENT
UID:e5c10bfb-9d5c-435d-9d43-66de619cf0e5
DTSTAMP:20251217T124348Z
SUMMARY:Semesterabschlusskneipe
DESCRIPTION:
DTSTART:20260131T200000
DTEND:20260131T210000
LOCATION:Rheno-Guestfalen-Haus
END:VEVENT
BEGIN:VEVENT
UID:8747460a-6314-489f-a23d-53f8cb8debb5
DTSTAMP:20251217T124405Z
SUMMARY:6. AC / BC\, WC / DC
DESCRIPTION:
DTSTART:20260204T190000
DTEND:20260204T210000
LOCATION:Rheno-Guestfalen-Haus
END:VEVENT
BEGIN:VEVENT
UID:0824910a-abc5-450a-bf31-7c2a4e8aa83b
DTSTAMP:20260401T161652Z
SUMMARY:1. AC/BC
DESCRIPTION:<p>Inklusive Hissen der Fahne</p>\n
DTSTART:20260408T190000
DTEND:20260408T210000
LOCATION:adH
END:VEVENT
BEGIN:VEVENT
UID:f6472444-8390-4de9-a783-b9d3a5911635
DTSTAMP:20260401T154103Z
SUMMARY:Besinnungstag unter der Leitung von Bbr. AH Kesselmeier
DESCRIPTION:
DTSTART:20260411T093000
DTEND:20260411T160000
LOCATION:adH
END:VEVENT
BEGIN:VEVENT
UID:e38ba798-a0c4-4f2f-8ed0-4bdbd544ab70
DTSTAMP:20260401T154333Z
SUMMARY:Semesterantrittskneipe
DESCRIPTION:<p>Im Anschluss wird von Bbr. AH Johannsen ein Innofiz geschlag
 en.</p>\n
DTSTART:20260411T200000
DTEND:20260411T230000
LOCATION:adH
END:VEVENT
BEGIN:VEVENT
UID:ee1255a5-0877-492b-8424-77ebd31d1ebc
DTSTAMP:20260401T154502Z
SUMMARY:Semesterantrittsgottesdienst
DESCRIPTION:
DTSTART:20260412T110000
DTEND:20260412T120000
LOCATION:St. Nikolaus\, Rathausstraße 5\, 24103 Kiel
END:VEVENT
BEGIN:VEVENT
UID:b09e7bb6-4043-4c88-a421-8c2ed3cc5403
DTSTAMP:20260412T142706Z
SUMMARY:Semester-Opening-Party
DESCRIPTION:
DTSTART:20260418T210000
DTEND:20260418T230000
LOCATION:adH
END:VEVENT
BEGIN:VEVENT
UID:a65d5fad-bcb4-4444-995d-7f7ba467b4ca
DTSTAMP:20260401T154712Z
SUMMARY:2. AC/BC
DESCRIPTION:
DTSTART:20260429T190000
DTEND:20260429T210000
LOCATION:adH
END:VEVENT
BEGIN:VEVENT
UID:2cfa98e5-36f8-4d80-a65c-5c8f58efd92c
DTSTAMP:20260412T142646Z
SUMMARY:gemeinsamer Kirchgang der Aktivitas
DESCRIPTION:
DTSTART:20260503T110000
DTEND:20260503T120000
LOCATION:St. Nikolaus\, Rathausstraße 5\, 24103 Kiel
END:VEVENT
BEGIN:VEVENT
UID:433edf12-ffd6-49bb-a615-71a380aee285
DTSTAMP:20260401T154942Z
SUMMARY:3. AC/BC
DESCRIPTION:
DTSTART:20260520T190000
DTEND:20260520T210000
LOCATION:adH
END:VEVENT
BEGIN:VEVENT
UID:40ecb589-89b9-413f-9b85-5af5d7ceb738
DTSTAMP:20260412T142817Z
SUMMARY:1. Haus- und Gartentag
DESCRIPTION:
DTSTART:20260523T100000
DTEND:20260523T160000
LOCATION:adH
END:VEVENT
BEGIN:VEVENT
UID:e271cc65-b115-46eb-aa48-d51e3d0ca92d
DTSTAMP:20260401T161830Z
SUMMARY:Begrüßungsabend 129. Stiftungsfest
DESCRIPTION:
DTSTART:20260529T180000
DTEND:20260529T230000
LOCATION:adH
END:VEVENT
BEGIN:VEVENT
UID:cb494f2f-4364-4a4c-97e0-9602d485bad4
DTSTAMP:20260401T155551Z
SUMMARY:Altherrenconvent (AHC)
DESCRIPTION:
DTSTART:20260530T100000
DTEND:20260530T110000
LOCATION:adH
END:VEVENT
BEGIN:VEVENT
UID:4c4ef45a-791a-47a2-9d1e-e9ef606e4341
DTSTAMP:20260401T155642Z
SUMMARY:Cumultativconvent (CC)
DESCRIPTION:
DTSTART:20260530T110000
DTEND:20260530T120000
LOCATION:adH
END:VEVENT
BEGIN:VEVENT
UID:e8cbf5ce-973a-4bf5-8a5e-24a6351356b5
DTSTAMP:20260401T155819Z
SUMMARY:Festliches Abendessen
DESCRIPTION:<p>Einlass ist ab 17:30 Uhr hst.</p>\n
DTSTART:20260530T180000
DTEND:20260530T200000
LOCATION:Ratskeller Kiel\, Fleethörn 9\, 24103 Kiel
END:VEVENT
BEGIN:VEVENT
UID:8b193b8d-32b6-4544-b99e-74f8f6b7a9fa
DTSTAMP:20260401T160128Z
SUMMARY:Festkommers mit anschließendem Tanz
DESCRIPTION:
DTSTART:20260530T200000
DTEND:20260530T230000
LOCATION:Ratskeller Kiel\, Fleethörn 9\, 24103 Kiel
END:VEVENT
BEGIN:VEVENT
UID:377e2b43-a3a4-4f37-bb54-0cf9f4ef2991
DTSTAMP:20260401T160312Z
SUMMARY:Heilige Messe
DESCRIPTION:
DTSTART:20260531T110000
DTEND:20260531T120000
LOCATION:St. Nikolaus\, Rathausstraße 5\, 24103 Kiel
END:VEVENT
BEGIN:VEVENT
UID:91b5816a-5fba-44fd-bc93-badb3b24ce42
DTSTAMP:20260412T142928Z
SUMMARY:Exbummel
DESCRIPTION:
DTSTART:20260531T123000
DTEND:20260531T170000
LOCATION:adH
END:VEVENT
BEGIN:VEVENT
UID:6c300c8e-5f9f-4316-bce0-b66e5ea4af4a
DTSTAMP:20260412T143306Z
SUMMARY:Cartellversammlung in Rom
DESCRIPTION:
DTSTART:20260604T180000
DTEND:20260607T210000
LOCATION:Rom
END:VEVENT
BEGIN:VEVENT
UID:09101ef1-2a94-43e5-88f1-d26b7b4964fe
DTSTAMP:20260401T160559Z
SUMMARY:4. AC/BC
DESCRIPTION:
DTSTART:20260610T190000
DTEND:20260610T210000
LOCATION:adH
END:VEVENT
BEGIN:VEVENT
UID:97842c4e-01d3-483a-b101-37ed0e3ab787
DTSTAMP:20260401T160830Z
SUMMARY:Champagnerseminar
DESCRIPTION:<p>Das Seminar findet unter der Leitung von Cbr. Karl-Heinz See
 ger (Elb!) statt.</p>\n
DTSTART:20260613T183000
DTEND:20260613T230000
LOCATION:adH
END:VEVENT
BEGIN:VEVENT
UID:0ae808ac-3b46-4d1f-a6d0-958266a99fe4
DTSTAMP:20260412T143033Z
SUMMARY:Semesterparty
DESCRIPTION:<p>Im Rahmen der 132. Kieler Woche (19. - 28.06.2026)</p>\n
DTSTART:20260626T210000
DTEND:20260626T235900
LOCATION:adH
END:VEVENT
BEGIN:VEVENT
UID:3ab96527-3154-4c0c-abd4-1902ae399085
DTSTAMP:20260401T161031Z
SUMMARY:5. AC/BC
DESCRIPTION:
DTSTART:20260701T190000
DTEND:20260701T210000
LOCATION:adH
END:VEVENT
BEGIN:VEVENT
UID:70cafe34-b22a-43fc-aece-2943de0dd737
DTSTAMP:20260401T161136Z
SUMMARY:2. Haus - und Gartentag
DESCRIPTION:<p>Mit anschließendem Grillen</p>\n
DTSTART:20260711T100000
DTEND:20260711T160000
LOCATION:ach
END:VEVENT
BEGIN:VEVENT
UID:5c4f483d-e530-41db-b523-2ab66a864e58
DTSTAMP:20260401T161253Z
SUMMARY:Semesterabschlussgottesdienst
DESCRIPTION:
DTSTART:20260711T180000
DTEND:20260711T190000
LOCATION:St. Nikolaus\, Rathausstraße 5\, 24103 Kiel
END:VEVENT
BEGIN:VEVENT
UID:d555fb8a-5e34-4610-8239-a6efacbd0819
DTSTAMP:20260412T143209Z
SUMMARY:Semesterabschlusskneipe
DESCRIPTION:
DTSTART:20260711T200000
DTEND:20260711T230000
LOCATION:adH
END:VEVENT
BEGIN:VEVENT
UID:8e148daa-69a8-470e-a43d-358953292693
DTSTAMP:20260401T161511Z
SUMMARY:6. AC/BC sowie WC/DC
DESCRIPTION:<p>Mit anschließendem einholen der Fahne.</p>\n
DTSTART:20260715T190000
DTEND:20260715T210000
LOCATION:adH
END:VEVENT
BEGIN:VTIMEZONE
TZID:Europe/Berlin
BEGIN:STANDARD
DTSTART:20251122T200000
TZNAME:CET
TZOFFSETTO:+0100
TZOFFSETFROM:+0100
END:STANDARD
BEGIN:DAYLIGHT
DTSTART:20260329T030000
TZNAME:CEST
TZOFFSETTO:+0200
TZOFFSETFROM:+0100
END:DAYLIGHT
END:VTIMEZONE
END:VCALENDAR
