BEGIN:VCALENDAR
PRODID:-//eluceo/ical//2.0/EN
VERSION:2.0
CALSCALE:GREGORIAN
BEGIN:VEVENT
UID:0824910a-abc5-450a-bf31-7c2a4e8aa83b
DTSTAMP:20260401T161652Z
SUMMARY:1. AC/BC
DESCRIPTION:<p>Inklusive Hissen der Fahne</p>\n
DTSTART:20260408T190000
DTEND:20260408T210000
LOCATION:adH
END:VEVENT
BEGIN:VTIMEZONE
TZID:Europe/Berlin
BEGIN:DAYLIGHT
DTSTART:20260408T190000
TZNAME:CEST
TZOFFSETTO:+0200
TZOFFSETFROM:+0200
END:DAYLIGHT
END:VTIMEZONE
END:VCALENDAR
