BEGIN:VCALENDAR
PRODID:-//eluceo/ical//2.0/EN
VERSION:2.0
CALSCALE:GREGORIAN
BEGIN:VEVENT
UID:f6472444-8390-4de9-a783-b9d3a5911635
DTSTAMP:20260401T154103Z
SUMMARY:Besinnungstag unter der Leitung von Bbr. AH Kesselmeier
DESCRIPTION:
DTSTART:20260411T093000
DTEND:20260411T160000
LOCATION:adH
END:VEVENT
BEGIN:VTIMEZONE
TZID:Europe/Berlin
BEGIN:DAYLIGHT
DTSTART:20260411T093000
TZNAME:CEST
TZOFFSETTO:+0200
TZOFFSETFROM:+0200
END:DAYLIGHT
END:VTIMEZONE
END:VCALENDAR
