BEGIN:VCALENDAR
PRODID:-//eluceo/ical//2.0/EN
VERSION:2.0
CALSCALE:GREGORIAN
BEGIN:VEVENT
UID:ee1255a5-0877-492b-8424-77ebd31d1ebc
DTSTAMP:20260401T154502Z
SUMMARY:Semesterantrittsgottesdienst
DESCRIPTION:
DTSTART:20260412T110000
DTEND:20260412T120000
LOCATION:St. Nikolaus\, Rathausstraße 5\, 24103 Kiel
END:VEVENT
BEGIN:VTIMEZONE
TZID:Europe/Berlin
BEGIN:DAYLIGHT
DTSTART:20260412T110000
TZNAME:CEST
TZOFFSETTO:+0200
TZOFFSETFROM:+0200
END:DAYLIGHT
END:VTIMEZONE
END:VCALENDAR
