BEGIN:VCALENDAR
PRODID:-//eluceo/ical//2.0/EN
VERSION:2.0
CALSCALE:GREGORIAN
BEGIN:VEVENT
UID:e38ba798-a0c4-4f2f-8ed0-4bdbd544ab70
DTSTAMP:20260401T154333Z
SUMMARY:Semesterantrittskneipe
DESCRIPTION:<p>Im Anschluss wird von Bbr. AH Johannsen ein Innofiz geschlag
 en.</p>\n
DTSTART:20260411T200000
DTEND:20260411T230000
LOCATION:adH
END:VEVENT
BEGIN:VTIMEZONE
TZID:Europe/Berlin
BEGIN:DAYLIGHT
DTSTART:20260411T200000
TZNAME:CEST
TZOFFSETTO:+0200
TZOFFSETFROM:+0200
END:DAYLIGHT
END:VTIMEZONE
END:VCALENDAR
