BEGIN:VCALENDAR
PRODID:-//eluceo/ical//2.0/EN
VERSION:2.0
CALSCALE:GREGORIAN
BEGIN:VEVENT
UID:e271cc65-b115-46eb-aa48-d51e3d0ca92d
DTSTAMP:20260401T161830Z
SUMMARY:Begrüßungsabend 129. Stiftungsfest
DESCRIPTION:
DTSTART:20260529T180000
DTEND:20260529T230000
LOCATION:adH
END:VEVENT
BEGIN:VTIMEZONE
TZID:Europe/Berlin
BEGIN:DAYLIGHT
DTSTART:20260529T180000
TZNAME:CEST
TZOFFSETTO:+0200
TZOFFSETFROM:+0200
END:DAYLIGHT
END:VTIMEZONE
END:VCALENDAR
