BEGIN:VCALENDAR
PRODID:-//eluceo/ical//2.0/EN
VERSION:2.0
CALSCALE:GREGORIAN
BEGIN:VEVENT
UID:cb494f2f-4364-4a4c-97e0-9602d485bad4
DTSTAMP:20260401T155551Z
SUMMARY:Altherrenconvent (AHC)
DESCRIPTION:
DTSTART:20260530T100000
DTEND:20260530T110000
LOCATION:adH
END:VEVENT
BEGIN:VTIMEZONE
TZID:Europe/Berlin
BEGIN:DAYLIGHT
DTSTART:20260530T100000
TZNAME:CEST
TZOFFSETTO:+0200
TZOFFSETFROM:+0200
END:DAYLIGHT
END:VTIMEZONE
END:VCALENDAR
