BEGIN:VCALENDAR
PRODID:-//eluceo/ical//2.0/EN
VERSION:2.0
CALSCALE:GREGORIAN
BEGIN:VEVENT
UID:b09e7bb6-4043-4c88-a421-8c2ed3cc5403
DTSTAMP:20260412T142706Z
SUMMARY:Semester-Opening-Party
DESCRIPTION:
DTSTART:20260418T210000
DTEND:20260418T230000
LOCATION:adH
END:VEVENT
BEGIN:VTIMEZONE
TZID:Europe/Berlin
BEGIN:DAYLIGHT
DTSTART:20260418T210000
TZNAME:CEST
TZOFFSETTO:+0200
TZOFFSETFROM:+0200
END:DAYLIGHT
END:VTIMEZONE
END:VCALENDAR
