BEGIN:VCALENDAR
PRODID:-//eluceo/ical//2.0/EN
VERSION:2.0
CALSCALE:GREGORIAN
BEGIN:VEVENT
UID:a65d5fad-bcb4-4444-995d-7f7ba467b4ca
DTSTAMP:20260401T154712Z
SUMMARY:2. AC/BC
DESCRIPTION:
DTSTART:20260429T190000
DTEND:20260429T210000
LOCATION:adH
END:VEVENT
BEGIN:VTIMEZONE
TZID:Europe/Berlin
BEGIN:DAYLIGHT
DTSTART:20260429T190000
TZNAME:CEST
TZOFFSETTO:+0200
TZOFFSETFROM:+0200
END:DAYLIGHT
END:VTIMEZONE
END:VCALENDAR
