BEGIN:VCALENDAR
PRODID:-//eluceo/ical//2.0/EN
VERSION:2.0
CALSCALE:GREGORIAN
BEGIN:VEVENT
UID:8b193b8d-32b6-4544-b99e-74f8f6b7a9fa
DTSTAMP:20260401T160128Z
SUMMARY:Festkommers mit anschließendem Tanz
DESCRIPTION:
DTSTART:20260530T200000
DTEND:20260530T230000
LOCATION:Ratskeller Kiel\, Fleethörn 9\, 24103 Kiel
END:VEVENT
BEGIN:VTIMEZONE
TZID:Europe/Berlin
BEGIN:DAYLIGHT
DTSTART:20260530T200000
TZNAME:CEST
TZOFFSETTO:+0200
TZOFFSETFROM:+0200
END:DAYLIGHT
END:VTIMEZONE
END:VCALENDAR
