BEGIN:VCALENDAR
PRODID:-//eluceo/ical//2.0/EN
VERSION:2.0
CALSCALE:GREGORIAN
BEGIN:VEVENT
UID:4c4ef45a-791a-47a2-9d1e-e9ef606e4341
DTSTAMP:20260401T155642Z
SUMMARY:Cumultativconvent (CC)
DESCRIPTION:
DTSTART:20260530T110000
DTEND:20260530T120000
LOCATION:adH
END:VEVENT
BEGIN:VTIMEZONE
TZID:Europe/Berlin
BEGIN:DAYLIGHT
DTSTART:20260530T110000
TZNAME:CEST
TZOFFSETTO:+0200
TZOFFSETFROM:+0200
END:DAYLIGHT
END:VTIMEZONE
END:VCALENDAR
