BEGIN:VCALENDAR
PRODID:-//eluceo/ical//2.0/EN
VERSION:2.0
CALSCALE:GREGORIAN
BEGIN:VEVENT
UID:40ecb589-89b9-413f-9b85-5af5d7ceb738
DTSTAMP:20260412T142817Z
SUMMARY:1. Haus- und Gartentag
DESCRIPTION:
DTSTART:20260523T100000
DTEND:20260523T160000
LOCATION:adH
END:VEVENT
BEGIN:VTIMEZONE
TZID:Europe/Berlin
BEGIN:DAYLIGHT
DTSTART:20260523T100000
TZNAME:CEST
TZOFFSETTO:+0200
TZOFFSETFROM:+0200
END:DAYLIGHT
END:VTIMEZONE
END:VCALENDAR
