BEGIN:VCALENDAR
PRODID:-//eluceo/ical//2.0/EN
VERSION:2.0
CALSCALE:GREGORIAN
BEGIN:VEVENT
UID:377e2b43-a3a4-4f37-bb54-0cf9f4ef2991
DTSTAMP:20260401T160312Z
SUMMARY:Heilige Messe
DESCRIPTION:
DTSTART:20260531T110000
DTEND:20260531T120000
LOCATION:St. Nikolaus\, Rathausstraße 5\, 24103 Kiel
END:VEVENT
BEGIN:VTIMEZONE
TZID:Europe/Berlin
BEGIN:DAYLIGHT
DTSTART:20260531T110000
TZNAME:CEST
TZOFFSETTO:+0200
TZOFFSETFROM:+0200
END:DAYLIGHT
END:VTIMEZONE
END:VCALENDAR
